BEGIN:VCALENDAR
VERSION:2.0
PRODID:-//hacksw/handcal//NONSGML v1.0//EN
BEGIN:VEVENT
DTSTART:20260521T170000Z
DTEND:20260521T210000Z
LOCATION:Les Terrasses de l'Atelier \n1, Chemin des Étroits \n31400 TOULOUSE
ORGANIZER;CN=Priscilla TREMEAU:MAILTO:priscilla.tremeau@gmail.com
SUMMARY:Afterwork à Toulouse :tulip:
DESCRIPTION:Avec l'arrivée des beaux jours, réunissez vous entre diplômés afin de partager un moment de convivialité. ☀️ Nous vous donnons rendez-vous le : 📅 Jeudi 21 mai, à partir de 19h📍 Les Terrasses de...
URL:https://www.clermont-sb-alumni.fr/en/event/afterwork-a-toulouse-tulip/2026/05/21/1586
BEGIN:VALARM
TRIGGER:-P0DT1H0M0S
ACTION:DISPLAY
END:VALARM
END:VEVENT
END:VCALENDAR